BEGIN:VCALENDAR
VERSION:2.0
PRODID:-//Commune de Bonson - ECPv5.12.4//NONSGML v1.0//EN
CALSCALE:GREGORIAN
METHOD:PUBLISH
X-WR-CALNAME:Commune de Bonson
X-ORIGINAL-URL:https://www.mairie-bonson.fr
X-WR-CALDESC:évènements pour Commune de Bonson
REFRESH-INTERVAL;VALUE=DURATION:PT1H
X-Robots-Tag:noindex
X-PUBLISHED-TTL:PT1H
BEGIN:VTIMEZONE
TZID:Europe/Paris
BEGIN:DAYLIGHT
TZOFFSETFROM:+0100
TZOFFSETTO:+0200
TZNAME:CEST
DTSTART:20250330T010000
END:DAYLIGHT
BEGIN:STANDARD
TZOFFSETFROM:+0200
TZOFFSETTO:+0100
TZNAME:CET
DTSTART:20251026T010000
END:STANDARD
END:VTIMEZONE
BEGIN:VEVENT
DTSTART;TZID=Europe/Paris:20251123T130000
DTEND;TZID=Europe/Paris:20251123T170000
DTSTAMP:20260420T003610
CREATED:20251031T093410Z
LAST-MODIFIED:20251031T095216Z
UID:7849-1763902800-1763917200@www.mairie-bonson.fr
SUMMARY:Agir en Forez - Loto
DESCRIPTION:
URL:https://www.mairie-bonson.fr/evenement/agir-en-forez-loto/
ATTACH;FMTTYPE=image/png:https://www.mairie-bonson.fr/wp-content/uploads/2025/10/23-11-LOTO-AGIR-EN-FOREZ.png
END:VEVENT
END:VCALENDAR