BEGIN:VCALENDAR
VERSION:2.0
PRODID:-//Commune de Bonson - ECPv5.12.4//NONSGML v1.0//EN
CALSCALE:GREGORIAN
METHOD:PUBLISH
X-WR-CALNAME:Commune de Bonson
X-ORIGINAL-URL:https://www.mairie-bonson.fr
X-WR-CALDESC:évènements pour Commune de Bonson
REFRESH-INTERVAL;VALUE=DURATION:PT1H
X-Robots-Tag:noindex
X-PUBLISHED-TTL:PT1H
BEGIN:VTIMEZONE
TZID:Europe/Paris
BEGIN:DAYLIGHT
TZOFFSETFROM:+0100
TZOFFSETTO:+0200
TZNAME:CEST
DTSTART:20250330T010000
END:DAYLIGHT
BEGIN:STANDARD
TZOFFSETFROM:+0200
TZOFFSETTO:+0100
TZNAME:CET
DTSTART:20251026T010000
END:STANDARD
END:VTIMEZONE
BEGIN:VEVENT
DTSTART;TZID=Europe/Paris:20251210T140000
DTEND;TZID=Europe/Paris:20251210T160000
DTSTAMP:20260419T225707
CREATED:20250930T144926Z
LAST-MODIFIED:20250930T144926Z
UID:7792-1765375200-1765382400@www.mairie-bonson.fr
SUMMARY:Médiathéque - Atelier - Décorations de Noël
DESCRIPTION:
URL:https://www.mairie-bonson.fr/evenement/mediatheque-atelier-decorations-de-noel/
END:VEVENT
END:VCALENDAR