BEGIN:VCALENDAR
VERSION:2.0
PRODID:-//Commune de Bonson - ECPv5.12.4//NONSGML v1.0//EN
CALSCALE:GREGORIAN
METHOD:PUBLISH
X-WR-CALNAME:Commune de Bonson
X-ORIGINAL-URL:https://www.mairie-bonson.fr
X-WR-CALDESC:évènements pour Commune de Bonson
REFRESH-INTERVAL;VALUE=DURATION:PT1H
X-Robots-Tag:noindex
X-PUBLISHED-TTL:PT1H
BEGIN:VTIMEZONE
TZID:Europe/Paris
BEGIN:DAYLIGHT
TZOFFSETFROM:+0100
TZOFFSETTO:+0200
TZNAME:CEST
DTSTART:20260329T010000
END:DAYLIGHT
BEGIN:STANDARD
TZOFFSETFROM:+0200
TZOFFSETTO:+0100
TZNAME:CET
DTSTART:20261025T010000
END:STANDARD
END:VTIMEZONE
BEGIN:VEVENT
DTSTART;TZID=Europe/Paris:20260328T080000
DTEND;TZID=Europe/Paris:20260328T140000
DTSTAMP:20260419T174642
CREATED:20260317T155246Z
LAST-MODIFIED:20260317T155300Z
UID:8150-1774684800-1774706400@www.mairie-bonson.fr
SUMMARY:Gardiens pour Tous - Matinée Charcuterie - Salle M.Pouillon
DESCRIPTION:
URL:https://www.mairie-bonson.fr/evenement/gardiens-pour-tous-matinee-charcuterie-salle-m-pouillon/
ATTACH;FMTTYPE=application/pdf:https://www.mairie-bonson.fr/wp-content/uploads/2026/03/Matinee-charcuterie.pdf
END:VEVENT
END:VCALENDAR