BEGIN:VCALENDAR
VERSION:2.0
PRODID:-//Commune de Bonson - ECPv5.12.4//NONSGML v1.0//EN
CALSCALE:GREGORIAN
METHOD:PUBLISH
X-WR-CALNAME:Commune de Bonson
X-ORIGINAL-URL:https://www.mairie-bonson.fr
X-WR-CALDESC:évènements pour Commune de Bonson
REFRESH-INTERVAL;VALUE=DURATION:PT1H
X-Robots-Tag:noindex
X-PUBLISHED-TTL:PT1H
BEGIN:VTIMEZONE
TZID:Europe/Paris
BEGIN:DAYLIGHT
TZOFFSETFROM:+0100
TZOFFSETTO:+0200
TZNAME:CEST
DTSTART:20250330T010000
END:DAYLIGHT
BEGIN:STANDARD
TZOFFSETFROM:+0200
TZOFFSETTO:+0100
TZNAME:CET
DTSTART:20251026T010000
END:STANDARD
END:VTIMEZONE
BEGIN:VEVENT
DTSTART;TZID=Europe/Paris:20251003T180000
DTEND;TZID=Europe/Paris:20251003T190000
DTSTAMP:20260420T003605
CREATED:20250930T143859Z
LAST-MODIFIED:20251001T080328Z
UID:7782-1759514400-1759518000@www.mairie-bonson.fr
SUMMARY:Médiathèque - Présentation Rentrée Littéraire
DESCRIPTION:
URL:https://www.mairie-bonson.fr/evenement/mediatheque-de-bonson-presentation-rentree-litteraire/
END:VEVENT
BEGIN:VEVENT
DTSTART;TZID=Europe/Paris:20251004T100000
DTEND;TZID=Europe/Paris:20251004T120000
DTSTAMP:20260420T003605
CREATED:20250930T144133Z
LAST-MODIFIED:20250930T144133Z
UID:7784-1759572000-1759579200@www.mairie-bonson.fr
SUMMARY:Médiathèque - Chasse au Trésor Epique
DESCRIPTION:
URL:https://www.mairie-bonson.fr/evenement/mediatheque-chasse-au-tresor-epique/
END:VEVENT
BEGIN:VEVENT
DTSTART;TZID=Europe/Paris:20251004T140000
DTEND;TZID=Europe/Paris:20251004T180000
DTSTAMP:20260420T003605
CREATED:20250930T154750Z
LAST-MODIFIED:20250930T154750Z
UID:7801-1759586400-1759600800@www.mairie-bonson.fr
SUMMARY:Concours de Coinche - Le Gardon Retraité
DESCRIPTION:
URL:https://www.mairie-bonson.fr/evenement/concours-de-coinche-le-gardon-retraite/
ATTACH;FMTTYPE=application/pdf:https://www.mairie-bonson.fr/wp-content/uploads/2025/09/Affiche-Coinche-04-10.pdf
END:VEVENT
BEGIN:VEVENT
DTSTART;TZID=Europe/Paris:20251006T093000
DTEND;TZID=Europe/Paris:20251011T163000
DTSTAMP:20260420T003605
CREATED:20250904T161158Z
LAST-MODIFIED:20250904T161207Z
UID:7678-1759743000-1760200200@www.mairie-bonson.fr
SUMMARY:CCAS - Programme de la Semaine Bleue du 6/10 au 11/10
DESCRIPTION:
URL:https://www.mairie-bonson.fr/evenement/ccas-programme-de-la-semaine-bleue-du-6-10-au-11-10/
ATTACH;FMTTYPE=application/pdf:https://www.mairie-bonson.fr/wp-content/uploads/2025/09/SEMAINE-BLEUE-2025-_-030925.pdf
END:VEVENT
BEGIN:VEVENT
DTSTART;TZID=Europe/Paris:20251006T183000
DTEND;TZID=Europe/Paris:20251006T193000
DTSTAMP:20260420T003605
CREATED:20250904T155911Z
LAST-MODIFIED:20250904T155923Z
UID:7675-1759775400-1759779000@www.mairie-bonson.fr
SUMMARY:CCAS - Semaine Bleue - Escale des Aidants - Salle Barbara
DESCRIPTION:
URL:https://www.mairie-bonson.fr/evenement/ccas-semaine-bleue-escale-des-aidants-salle-barbara/
ATTACH;FMTTYPE=application/pdf:https://www.mairie-bonson.fr/wp-content/uploads/2025/09/AIDANTS.pdf
END:VEVENT
BEGIN:VEVENT
DTSTART;TZID=Europe/Paris:20251018T103000
DTEND;TZID=Europe/Paris:20251018T113000
DTSTAMP:20260420T003605
CREATED:20250930T144326Z
LAST-MODIFIED:20250930T144338Z
UID:7786-1760783400-1760787000@www.mairie-bonson.fr
SUMMARY:Médiathèque - Spectacle "La ballade de Tillia"
DESCRIPTION:
URL:https://www.mairie-bonson.fr/evenement/mediatheque-spectacle-la-ballade-de-tillia/
END:VEVENT
BEGIN:VEVENT
DTSTART;TZID=Europe/Paris:20251025T140000
DTEND;TZID=Europe/Paris:20251025T183000
DTSTAMP:20260420T003605
CREATED:20251024T184723Z
LAST-MODIFIED:20251024T185015Z
UID:7821-1761400800-1761417000@www.mairie-bonson.fr
SUMMARY:Concours de belote - Don du Sang -  Espace Barbara
DESCRIPTION:
URL:https://www.mairie-bonson.fr/evenement/concours-de-belote-don-du-sang-espace-barbara/
ATTACH;FMTTYPE=application/pdf:https://www.mairie-bonson.fr/wp-content/uploads/2025/10/25-10-BELOTE-DON-DU-SANG.pdf
END:VEVENT
BEGIN:VEVENT
DTSTART;TZID=Europe/Paris:20251026T100000
DTEND;TZID=Europe/Paris:20251026T110000
DTSTAMP:20260420T003605
CREATED:20250926T165514Z
LAST-MODIFIED:20250926T165514Z
UID:7775-1761472800-1761476400@www.mairie-bonson.fr
SUMMARY:Zumba Octobre Rose - Salle Barbara
DESCRIPTION:
URL:https://www.mairie-bonson.fr/evenement/zumba-octobre-rose-salle-barbara/
ATTACH;FMTTYPE=image/jpeg:https://www.mairie-bonson.fr/wp-content/uploads/2025/09/zumba.jpg
END:VEVENT
BEGIN:VEVENT
DTSTART;TZID=Europe/Paris:20251029T140000
DTEND;TZID=Europe/Paris:20251029T160000
DTSTAMP:20260420T003605
CREATED:20250930T144738Z
LAST-MODIFIED:20250930T144738Z
UID:7790-1761746400-1761753600@www.mairie-bonson.fr
SUMMARY:Médiathèque - Atelier - Dessiner un Manga
DESCRIPTION:
URL:https://www.mairie-bonson.fr/evenement/mediatheque-atelier-dessiner-un-manga/
END:VEVENT
BEGIN:VEVENT
DTSTART;TZID=Europe/Paris:20251031T183000
DTEND;TZID=Europe/Paris:20251031T235500
DTSTAMP:20260420T003605
CREATED:20251029T195630Z
LAST-MODIFIED:20251031T000507Z
UID:7829-1761935400-1761954900@www.mairie-bonson.fr
SUMMARY:Bonson en Fête - La nuit des Chocottes - Espace Barbara
DESCRIPTION:
URL:https://www.mairie-bonson.fr/evenement/bonson-en-fete-la-nuit-des-chocotes-espace-barbara/
END:VEVENT
END:VCALENDAR