BEGIN:VCALENDAR
VERSION:2.0
PRODID:-//Commune de Bonson - ECPv5.12.4//NONSGML v1.0//EN
CALSCALE:GREGORIAN
METHOD:PUBLISH
X-WR-CALNAME:Commune de Bonson
X-ORIGINAL-URL:https://www.mairie-bonson.fr
X-WR-CALDESC:évènements pour Commune de Bonson
REFRESH-INTERVAL;VALUE=DURATION:PT1H
X-Robots-Tag:noindex
X-PUBLISHED-TTL:PT1H
BEGIN:VTIMEZONE
TZID:Europe/Paris
BEGIN:DAYLIGHT
TZOFFSETFROM:+0100
TZOFFSETTO:+0200
TZNAME:CEST
DTSTART:20250330T010000
END:DAYLIGHT
BEGIN:STANDARD
TZOFFSETFROM:+0200
TZOFFSETTO:+0100
TZNAME:CET
DTSTART:20251026T010000
END:STANDARD
END:VTIMEZONE
BEGIN:VEVENT
DTSTART;TZID=Europe/Paris:20251111T080000
DTEND;TZID=Europe/Paris:20251111T140000
DTSTAMP:20260419T225640
CREATED:20251031T090054Z
LAST-MODIFIED:20251031T090312Z
UID:7837-1762848000-1762869600@www.mairie-bonson.fr
SUMMARY:Les Lieues Foreziennes
DESCRIPTION:
URL:https://www.mairie-bonson.fr/evenement/lieux-foreziennes/
ATTACH;FMTTYPE=image/png:https://www.mairie-bonson.fr/wp-content/uploads/2025/10/ANNONCE-LIEUES-FOREZIENNES.png
END:VEVENT
BEGIN:VEVENT
DTSTART;TZID=Europe/Paris:20251111T110000
DTEND;TZID=Europe/Paris:20251111T123000
DTSTAMP:20260419T225640
CREATED:20251031T000719Z
LAST-MODIFIED:20251031T000731Z
UID:7832-1762858800-1762864200@www.mairie-bonson.fr
SUMMARY:Cérémonie du 11 novembre - Monument aux Morts
DESCRIPTION:
URL:https://www.mairie-bonson.fr/evenement/ceremonie-du-11-novembre-monument-aux-morts/
END:VEVENT
BEGIN:VEVENT
DTSTART;TZID=Europe/Paris:20251116T083000
DTEND;TZID=Europe/Paris:20251116T123000
DTSTAMP:20260419T225640
CREATED:20251031T091920Z
LAST-MODIFIED:20251031T091920Z
UID:7847-1763281800-1763296200@www.mairie-bonson.fr
SUMMARY:Bourse aux Jouets et Livres
DESCRIPTION:
URL:https://www.mairie-bonson.fr/evenement/bourse-aux-jouets-et-livres/
END:VEVENT
BEGIN:VEVENT
DTSTART;TZID=Europe/Paris:20251121T203000
DTEND;TZID=Europe/Paris:20251121T220000
DTSTAMP:20260419T225640
CREATED:20251031T094754Z
LAST-MODIFIED:20251031T094754Z
UID:7851-1763757000-1763762400@www.mairie-bonson.fr
SUMMARY:Plein Chant - Espace Barbara
DESCRIPTION:
URL:https://www.mairie-bonson.fr/evenement/plein-chant-espace-barbara/
ATTACH;FMTTYPE=image/jpeg:https://www.mairie-bonson.fr/wp-content/uploads/2025/10/A.jpg
END:VEVENT
BEGIN:VEVENT
DTSTART;TZID=Europe/Paris:20251122T203000
DTEND;TZID=Europe/Paris:20251122T220000
DTSTAMP:20260419T225640
CREATED:20251031T094909Z
LAST-MODIFIED:20251031T094939Z
UID:7854-1763843400-1763848800@www.mairie-bonson.fr
SUMMARY:Plein Chant - Espace Barbara
DESCRIPTION:
URL:https://www.mairie-bonson.fr/evenement/plein-chant-espace-barbara-2/
ATTACH;FMTTYPE=image/jpeg:https://www.mairie-bonson.fr/wp-content/uploads/2025/10/A.jpg
END:VEVENT
BEGIN:VEVENT
DTSTART;TZID=Europe/Paris:20251123T130000
DTEND;TZID=Europe/Paris:20251123T170000
DTSTAMP:20260419T225640
CREATED:20251031T093410Z
LAST-MODIFIED:20251031T095216Z
UID:7849-1763902800-1763917200@www.mairie-bonson.fr
SUMMARY:Agir en Forez - Loto
DESCRIPTION:
URL:https://www.mairie-bonson.fr/evenement/agir-en-forez-loto/
ATTACH;FMTTYPE=image/png:https://www.mairie-bonson.fr/wp-content/uploads/2025/10/23-11-LOTO-AGIR-EN-FOREZ.png
END:VEVENT
END:VCALENDAR